BEGIN:VCALENDAR
VERSION:2.0
PRODID:-//Contratero//ES
CALSCALE:GREGORIAN
METHOD:PUBLISH
BEGIN:VEVENT
UID:SER 57/2023-L3@contratero.es
DTSTAMP:20260425T031242Z
DTSTART:20231027T235959
DTEND:20231028T005959
SUMMARY:Cierre: Servicio de organización de actividades de ocio y 
DESCRIPTION:Servicio de organización de actividades de ocio y tiempo libre promovidas por la Concejalía de Juventud del Ayuntamiento de Calp (Alicante) - Lote 3 - Escape Box\\n\\nOrganismo: Alcaldía del Ajuntament de Calp\\n\\nVer en Contratero: https://contratero.es/contracts/SER 57/2023-L3
URL:https://contratero.es/contracts/SER 57/2023-L3
STATUS:CONFIRMED
BEGIN:VALARM
TRIGGER:-P1D
ACTION:DISPLAY
DESCRIPTION:Recordatorio: Servicio de organización de ac
END:VALARM
END:VEVENT
END:VCALENDAR